BEGIN:VCALENDAR
VERSION:2.0
PRODID:https://www.reichenbach-vogtland.de/veranstaltungskalender/
X-PUBLISHED-TTL:P1W
BEGIN:VEVENT
UID:69ed56d827891
DTSTART:20260207T100000
SEQUENCE:0
TRANSP:OPAQUE
SUMMARY:Vorlesezeit am Samstag
DESCRIPTION:Bilderbuchgeschichten für Kinder<br><br>- jeden Samstag - Somm
 erpause von Juni bis August
DTSTAMP:20260426T020544Z
END:VEVENT
END:VCALENDAR