BEGIN:VCALENDAR
VERSION:2.0
PRODID:https://www.reichenbach-vogtland.de/veranstaltungskalender/
X-PUBLISHED-TTL:P1W
BEGIN:VEVENT
UID:69e8763b988da
DTSTART:20260519T150000
SEQUENCE:0
TRANSP:OPAQUE
SUMMARY:Spiele-Treff mit Amigo Spielezeit
DESCRIPTION:Gemeinsam Gesellschaftsspiele für Familien und Erwachsene entd
 ecken und ausprobieren<br><br>Gesellschaftspiel-Klassiker und -Neuheiten d
 irekt vom Verlag Amigo - jeden dritten Dienstag im Monat
DTSTAMP:20260422T091819Z
END:VEVENT
END:VCALENDAR