BEGIN:VCALENDAR
VERSION:2.0
PRODID:https://www.reichenbach-vogtland.de/veranstaltungskalender/
X-PUBLISHED-TTL:P1W
BEGIN:VEVENT
UID:69e5d289ace9a
DTSTART:20270305T193000
SEQUENCE:0
TRANSP:OPAQUE
SUMMARY:Sounds of Hollywood
DTSTAMP:20260420T091521Z
END:VEVENT
END:VCALENDAR