BEGIN:VCALENDAR
VERSION:2.0
PRODID:https://www.reichenbach-vogtland.de/veranstaltungskalender/
X-PUBLISHED-TTL:P1W
BEGIN:VEVENT
UID:69eb015e0708c
DTSTART:20260525T140000
SEQUENCE:0
TRANSP:OPAQUE
SUMMARY:Pfingstkonzert
DTSTAMP:20260424T073630Z
END:VEVENT
END:VCALENDAR