BEGIN:VCALENDAR
VERSION:2.0
PRODID:https://www.reichenbach-vogtland.de/veranstaltungskalender/
X-PUBLISHED-TTL:P1W
BEGIN:VEVENT
UID:69eaffe53d730
DTSTART:20260424T140000
SEQUENCE:0
TRANSP:OPAQUE
DTEND:20260424T180000
SUMMARY:Nicht vergessen – der Park ruft!
DESCRIPTION:Nicht vergessen – der Park ruft! <br><br>Am Freitag ist es e
 ndlich so weit: Unser neuer Park in Reichenbach West wird eröffnet – un
 d wir zählen schon die Stunden! <br><br>Was euch erwartet?<br><br>- Musi
 k vom DJ<br><br>- Hüpfspaß für die Kids<br><br> - Frische Waffeln<br><
 br> - Leckeres Eis<br><br> - Getränke für Groß & Klein<br><br>E- in e
 chtes Highlight zur Parkeröffnung: Die kleinen Stars der @AWO Kita Wichte
 lhausen stehen in den Startlöchern!  <br><br>Seit vielen Wochen wird fl
 eißig geübt\, gesungen und getanzt und am Freitag zeigen die Kids uns ih
 r liebevoll vorbereitetes Programm zur Eröffnung unseres neuen Parks. <b
 r><br>Wir sind jetzt schon gespannt auf die strahlenden Gesichter und sage
 n:  Vorhang auf für unsere kleinen Parkhelden! 
DTSTAMP:20260424T073013Z
END:VEVENT
END:VCALENDAR