BEGIN:VCALENDAR
VERSION:2.0
PRODID:https://www.reichenbach-vogtland.de/veranstaltungskalender/
X-PUBLISHED-TTL:P1W
BEGIN:VEVENT
UID:69e9d80ba9cec
DTSTART:20260427T173000
SEQUENCE:0
TRANSP:OPAQUE
DTEND:20260427T184500
SUMMARY:Magic Yoga
DESCRIPTION:Neuer Kurs ab 30.03.2026<br><br>Buchen Sie 8/ 10  oder 12 Einh
 eiten!<br><br>Auch für Anfänger und Senioren geeignet!<br><br>Mitzubring
 en sind: Decke\, Matte\, dicke Socken\, evtl. Meditationskissen
DTSTAMP:20260423T102755Z
END:VEVENT
END:VCALENDAR