BEGIN:VCALENDAR
VERSION:2.0
PRODID:https://www.reichenbach-vogtland.de/veranstaltungskalender/
X-PUBLISHED-TTL:P1W
BEGIN:VEVENT
UID:69ed3fa110f2f
DTSTART:20260206T090000
SEQUENCE:0
TRANSP:OPAQUE
DTEND:20260206T100000
SUMMARY:Krabbelgruppe
DESCRIPTION:Für Eltern mit Kindern von 0 bis 1 Jahr mit Hebamme Andrea Hil
 pmann<br><br>- jeden Freitag
DTSTAMP:20260426T002641Z
END:VEVENT
END:VCALENDAR