BEGIN:VCALENDAR
VERSION:2.0
PRODID:https://www.reichenbach-vogtland.de/veranstaltungskalender/
X-PUBLISHED-TTL:P1W
BEGIN:VEVENT
UID:69eaffba922f2
DTSTART:20260424T100000
SEQUENCE:0
TRANSP:OPAQUE
DTEND:20260424T160000
SUMMARY:‚ICH UND DIE KUNST. Rezipieren — reflektieren — produzieren
 ‘.
DESCRIPTION:Die diesjährige Schulgalerie im Neuberin-Museum präsentiert e
 ine Kunstwerkschau der Weinhold-Oberschule Reichenbach.<br><br>Unter dem T
 itel „ICH UND DIE KUNST – rezipieren — reflektieren — produzieren
 “ sind hier Arbeiten in verschiedenen Techniken und Materialien aus dem 
 Kunstunterricht der Jahrgangsstufen 6 bis 12 zu sehen. Diese belegen eindr
 ucksvoll\, wie sich junge Menschen durch die Anregung ihrer Lehrer mit den
  Werken bekannter Künstler auseinandersetzen und kreativ Neues schaffen.
DTSTAMP:20260424T072930Z
END:VEVENT
END:VCALENDAR