BEGIN:VCALENDAR
VERSION:2.0
PRODID:https://www.reichenbach-vogtland.de/veranstaltungskalender/
X-PUBLISHED-TTL:P1W
BEGIN:VEVENT
UID:69e5e41edc5b3
DTSTART:20260430T183000
SEQUENCE:0
TRANSP:OPAQUE
DTEND:20260430T234500
SUMMARY:Höhenfeuer Schneidenbach
DESCRIPTION:Das Höhenfeuer findet wie jedes Jahr oberhalb des Waldweges au
 f der Wiese statt.<br><br>Parkmöglichkeiten bestehen am Straßenrand (StV
 O beachten) weiter Parkmöglichkeiten befinden sich auf der Gegenüberlieg
 enden Straßenseite der Hauptstraße 16.<br><br>Lampionumzug ab 19 Uhr (Tr
 effpunkt Feuerwehr/Bürgerhaus)<br><br>Für das Leibliche Wohl ist bestens
  gesorgt!<br><br>Das mitbringen von Getränken ist aus Sicherheitsgründen
  untersagt!
DTSTAMP:20260420T103022Z
END:VEVENT
END:VCALENDAR