BEGIN:VCALENDAR
VERSION:2.0
PRODID:https://www.reichenbach-vogtland.de/veranstaltungskalender/
X-PUBLISHED-TTL:P1W
BEGIN:VEVENT
UID:69e73c5df2897
DTSTART:20260621T090000
SEQUENCE:0
TRANSP:OPAQUE
SUMMARY:Hauptmannsgrüner Dorf-Flohmarkt
DESCRIPTION:Die Mitglieder vom Dorfclub Hauptmannsgrün freuen sich über v
 iele Besucher des jährlichen Dorfflohmarktes.<br><br>Ein buntes Rahmenpro
 gramm gibt es auch.
DTSTAMP:20260421T105910Z
END:VEVENT
END:VCALENDAR