BEGIN:VCALENDAR
VERSION:2.0
PRODID:https://www.reichenbach-vogtland.de/veranstaltungskalender/
X-PUBLISHED-TTL:P1W
BEGIN:VEVENT
UID:69e972b37783a
DTSTART:20260125T140000
SEQUENCE:0
TRANSP:OPAQUE
DTEND:20260125T180000
SUMMARY:Eislaufen in Reichenbach
DESCRIPTION:Auch 2026 öffnet die Wohnungsbaugesellschaft Reichenbach mbH (
 WOBA) wieder die kleine Eisbahn am Wasserturm.<br><br>Jeder Termin wird vo
 n Vereinen der Region abgedeckt.<br><br>Die Vereine sorgen für den Verlei
 h von Schlittschuhen und für die entsprechende Verpflegung für Schlittsc
 huhläufer\, Eltern und Zuschauer.<br><br>Übrigens: Schlittschuhe sind in
  ausreichender Menge ab Gr. 29 zum Ausleihen vorhanden!<br><br>Die Öffnun
 gszeiten<br><br>Freitag\, 02.Januar\, 14:00 bis 18:00 Uhr: Goethe Gymnasiu
 m Klasse 10b<br><br>Samstag\, 03. Januar\, 14:00 bis 18:00 Uhr: Parkverein
  Reichenbach<br><br>Sonntag\, 04. Januar\, 14:00 bis 18:00 Uhr: Förderver
 ein Weinholdschule Grundschule e.V. & Auftritt des Musikverein Reichenbach
 / Mylau e.V.<br><br>Donnerstag\, 23.01.2025 · 14–18 Uhr: Goethe-Gymnasi
 um Reichenbach Klasse 12 (Abijahrgang)<br><br>Freitag\, 09. Januar\, 14:00
  bis 18:00 Uhr: TSV Mylau Eislaufen<br><br>Samstag\, 10. Januar\, 14:00 bi
 s 18:00 Uhr: TSV Mylau Eislaufen<br><br>Sonntag\, 11. Januar\, 14:00 bis 1
 8:00 Uhr: SpVgg Heinsdorfergrund 02 e.V. Tischtennis<br><br>Freitag\, 16. 
 Januar\, 14:00 bis 18:00 Uhr: Integrative Kindertagesstätte Montessori-Ki
 nderhaus<br><br>Samstag\, 17. Januar\, 14:00 bis 18:00 Uhr: VFC Reichenbac
 h 96 e.V.<br><br>Sonntag\, 18. Januar\, 14:00 bis 18:00 Uhr: Reichenbacher
  FV e.V.<br><br>Freitag\, 23. Januar\, 14:00 bis 18:00 Uhr: SV 1990 Reiche
 nbach<br><br>Samstag\, 24. Januar\, 14:00 bis 18:00 Uhr: FV Freunde der We
 inholdschule Oberschule e.V.<br><br>Sonntag\, 25. Januar\, 14:00 bis 18:00
  Uhr: FV Freunde der Weinholdschule Oberschule e.V.<br><br>Freitag\, 30. J
 anuar\, 14:00 bis 18:00 Uhr: AWO Fröbelkindergarten am Stadtpark<br><br>S
 amstag\, 31. Januar\, 14:00 bis 18:00 Uhr: FV Freibad Mylau e.V.<br><br>So
 nntag\, 01. Februar\, 14:00 bis 18:00 Uhr: FV Freibad Mylau e.V.
DTSTAMP:20260423T031531Z
END:VEVENT
END:VCALENDAR