BEGIN:VCALENDAR
VERSION:2.0
PRODID:https://www.reichenbach-vogtland.de/veranstaltungskalender/
X-PUBLISHED-TTL:P1W
BEGIN:VEVENT
UID:69e7509debb05
DTSTART:20260421T090000
SEQUENCE:0
TRANSP:OPAQUE
DTEND:20260421T180000
SUMMARY:Bücherflohmarkt
DESCRIPTION:In den Tagen rund um den Welttag des Buches am 23. April findet
  in der Jürgen-Fuchs-Bibliothek ein großer Bücherflohmarkt statt. Neben
  Büchern für alle Altersgruppen können auch Spiele\, Filme sowie CDs\,
  die aus dem Bestand der Bibliothek ausgeschieden sind\, zu einem günstig
 en Preis erworben werden. Der Bücherflohmarkt ist zu den Öffnungszeiten 
 erreichbar.<br><br> 
DTSTAMP:20260421T122534Z
END:VEVENT
END:VCALENDAR