BEGIN:VCALENDAR
VERSION:2.0
PRODID:https://www.reichenbach-vogtland.de/veranstaltungskalender/
X-PUBLISHED-TTL:P1W
BEGIN:VEVENT
UID:69e5c81c9b7c6
DTSTART:20260815T200000
SEQUENCE:0
TRANSP:OPAQUE
SUMMARY:ADELE Tribute in SYMPHONY
DTSTAMP:20260420T083052Z
END:VEVENT
END:VCALENDAR